BEGIN:VCALENDAR
PRODID:-//PUBBLE//agenda//NL
VERSION:2.0
METHOD:PUBLISH
BEGIN:VEVENT
DTSTART:20241226T123000Z
DTEND:20241226T150000Z
DTSTAMP:20260424T235123Z
UID:d5b58f4e-12c1-4e78-9c99-4d6e2c43b442
CREATED:20260424T235123Z
NAME:A Celtic & Colourful Christmas in de Piterkerk te Lippenhuizen grootfryslan.nl
X-WR-CALNAME:A Celtic & Colourful Christmas in de Piterkerk te Lippenhuizen
X-ALT-DESC;FMTTYPE=text/html:<a href='/agenda/2024/12/26/a-celtic-colourful-christmas-in-de-piterkerk-te-lippenhuizen-102336'>/agenda/2024/12/26/a-celtic-colourful-christmas-in-de-piterkerk-te-lippenhuizen-102336</a> || <p>Geniet op Tweede Kerstdag van de mooiste kerstmuziek uit o.a. Ierland, Duitsland, Nederland, Zweden en Zuid-Amerika.</p><p>Dit jaar werpt Merain een licht op de bakermat van onze cultuur: muziek uit Griekenland!En zoals u gewend bent zal een muzikale twist uit verre oorden niet ontbreken</p><p>Door het Nederlands-Oostenrijkse trio zijn de traditionele kerstliederen in originele en levendige arrangementen gegoten, met ingrediënten uit eigen keuken, geïnspireerd op de wereldwijde rijkdom aan kersttradities. Het programma is omlijst met instrumentale dansmuziek zoals jigs en reels uit Ierland en muziek van eigen bodem. De prachtige harmonie van viool, harp en zang heeft een magische uitwerking. De perfecte mix voor een heerlijk kerstconcert voor jong en oud!</p><p>Tickets: <a href="//www.meraintrio.com/piterkerk" rel="noopener noreferrer" target="_blank">www.meraintrio.com/piterkerk</a></p><p>Meer informatie: <a href="//www.piterkerklippenhuizen.nl" rel="noopener noreferrer" target="_blank">www.piterkerklippenhuizen.nl</a></p>
DESCRIPTION:<a href='/agenda/2024/12/26/a-celtic-colourful-christmas-in-de-piterkerk-te-lippenhuizen-102336'>/agenda/2024/12/26/a-celtic-colourful-christmas-in-de-piterkerk-te-lippenhuizen-102336</a> || <p>Geniet op Tweede Kerstdag van de mooiste kerstmuziek uit o.a. Ierland, Duitsland, Nederland, Zweden en Zuid-Amerika.</p><p>Dit jaar werpt Merain een licht op de bakermat van onze cultuur: muziek uit Griekenland!En zoals u gewend bent zal een muzikale twist uit verre oorden niet ontbreken</p><p>Door het Nederlands-Oostenrijkse trio zijn de traditionele kerstliederen in originele en levendige arrangementen gegoten, met ingrediënten uit eigen keuken, geïnspireerd op de wereldwijde rijkdom aan kersttradities. Het programma is omlijst met instrumentale dansmuziek zoals jigs en reels uit Ierland en muziek van eigen bodem. De prachtige harmonie van viool, harp en zang heeft een magische uitwerking. De perfecte mix voor een heerlijk kerstconcert voor jong en oud!</p><p>Tickets: <a href="//www.meraintrio.com/piterkerk" rel="noopener noreferrer" target="_blank">www.meraintrio.com/piterkerk</a></p><p>Meer informatie: <a href="//www.piterkerklippenhuizen.nl" rel="noopener noreferrer" target="_blank">www.piterkerklippenhuizen.nl</a></p>
LAST-MODIFIED:20260424T235123Z
LOCATION: Piterkerk  |   Lippenhuizen
SEQUENCE:0
STATUS:CONFIRMED
SUMMARY:A Celtic & Colourful Christmas in de Piterkerk te Lippenhuizen
TRANSP:OPAQUE
END:VEVENT
END:VCALENDAR
