BEGIN:VCALENDAR
PRODID:-//PUBBLE//agenda//NL
VERSION:2.0
METHOD:PUBLISH
BEGIN:VEVENT
DTSTART:20251009T205625Z
DTEND:20251114T193000Z
DTSTAMP:20260425T175142Z
UID:e301e504-efd9-42f2-b368-59d75bd59399
CREATED:20260425T175142Z
NAME:Unieke sfeer van het Graceland Festival in Oudeschoot grootfryslan.nl
X-WR-CALNAME:Unieke sfeer van het Graceland Festival in Oudeschoot
X-ALT-DESC;FMTTYPE=text/html:<a href='/agenda/2025/11/14/unieke-sfeer-van-het-graceland-festival-in-oudeschoot-118722'>/agenda/2025/11/14/unieke-sfeer-van-het-graceland-festival-in-oudeschoot-118722</a> || <p><strong>OUDESCHOOT - Op 14 november kun je genieten van de unieke sfeer van het Graceland Festival in Oudeschoot. </strong></p><p>Het Graceland Festival wordt georganiseerd in augustus in Zeewolde en is een lang weekend met artiesten, sprekers en kunstenaars, die je laten nadenken, voelen en stilstaan met God. In het najaar komt Graceland ook bij ons thuis.&nbsp;</p><p>Het wordt een avond voor hoofd en handen. Laat je inspireren door Laudato Si’, de pauselijke oproep tot zorg voor de aarde, en ga daarna zelf aan de slag. Theoloog Jurijn Timon de Vos en kunstenaar Linda Zwart laten je ervaren hoe geloven en doen hand in hand gaan. De verbinding tussen spiritualiteit, duurzaamheid en dagelijks leven met o.a. het maken van duurzame producten, zoals lippenbalsem of zeep.</p><p>Deze avond wordt 14 november georganiseerd in de Sionskerk (Marktweg 55) te Oudeschoot. De avond begint om 19:30 en eindigt om 21:30. Deelname kost 10,-. Opgave via https://gracelandfestival.nl/kalender/graceland-bij-je-thuis/</p>
DESCRIPTION:<a href='/agenda/2025/11/14/unieke-sfeer-van-het-graceland-festival-in-oudeschoot-118722'>/agenda/2025/11/14/unieke-sfeer-van-het-graceland-festival-in-oudeschoot-118722</a> || <p><strong>OUDESCHOOT - Op 14 november kun je genieten van de unieke sfeer van het Graceland Festival in Oudeschoot. </strong></p><p>Het Graceland Festival wordt georganiseerd in augustus in Zeewolde en is een lang weekend met artiesten, sprekers en kunstenaars, die je laten nadenken, voelen en stilstaan met God. In het najaar komt Graceland ook bij ons thuis.&nbsp;</p><p>Het wordt een avond voor hoofd en handen. Laat je inspireren door Laudato Si’, de pauselijke oproep tot zorg voor de aarde, en ga daarna zelf aan de slag. Theoloog Jurijn Timon de Vos en kunstenaar Linda Zwart laten je ervaren hoe geloven en doen hand in hand gaan. De verbinding tussen spiritualiteit, duurzaamheid en dagelijks leven met o.a. het maken van duurzame producten, zoals lippenbalsem of zeep.</p><p>Deze avond wordt 14 november georganiseerd in de Sionskerk (Marktweg 55) te Oudeschoot. De avond begint om 19:30 en eindigt om 21:30. Deelname kost 10,-. Opgave via https://gracelandfestival.nl/kalender/graceland-bij-je-thuis/</p>
LAST-MODIFIED:20260425T175142Z
LOCATION: Sionskerk | Marktweg 55 Oudeschoot
SEQUENCE:0
STATUS:CONFIRMED
SUMMARY:Unieke sfeer van het Graceland Festival in Oudeschoot
TRANSP:OPAQUE
END:VEVENT
END:VCALENDAR
