BEGIN:VCALENDAR
PRODID:-//PUBBLE//agenda//NL
VERSION:2.0
METHOD:PUBLISH
BEGIN:VEVENT
DTSTART:20260515T200000Z
DTEND:20260515T220000Z
DTSTAMP:20260425T204933Z
UID:591c7122-bf54-4648-b926-c1fbb30d106e
CREATED:20260425T204933Z
NAME:Een mystieke avond met Marije Hage grootfryslan.nl
X-WR-CALNAME:Een mystieke avond met Marije Hage
X-ALT-DESC;FMTTYPE=text/html:<a href='/agenda/2026/5/15/een-mystieke-avond-met-marije-hage-129182'>/agenda/2026/5/15/een-mystieke-avond-met-marije-hage-129182</a> || <p>Op uitnodiging van de werkgroep ZIN in ZUID komt Marije Hage naar De Sionskerk in Oudeschoot voor een avond vol mystiek. Marije Hage (1982) is predikant en beeldend kunstenaar. Ze werkte mee aan podcasts, tv-programma’s en schrijft columns, onder andere in Volzin magazine.</p>
<p>Door de tijd heen zijn er mensen geraakt door geloofservaringen. Ervaringen van intense en tedere vreugde. Overgave. Licht en rust. Dit blijken vaak blijvende, dragende markeringen in levens. Maar ook: belevingen waar in eerste instantie moeilijk woorden voor te vinden zijn. Zulke ervaringen zou je mystiek kunnen noemen. Het zijn momenten waarin Iets of Iemand je overrompelt en je hele wezen in een ander licht zet. Marije Hage vertelt, aan de hand van een persoonlijke ervaring, over deze weg van de mystiek. We zullen daarbij ook kennismaken met enkele bekende mystici, zoals Teresa van Avila en Johannes van het Kruis. Deze avond is voor een breed publiek. Je hoeft niet van tevoren kennis te hebben van mystiek.&nbsp;</p>
<p>Marije Hage brengt deze mystieke avond op vrijdag 15 mei 2026 naar De Sionskerk aan de Marktweg 55 in Oudeschoot. De avond begint om 20.00 uur en de toegang bedraagt €5,00 per persoon.</p>
DESCRIPTION:<a href='/agenda/2026/5/15/een-mystieke-avond-met-marije-hage-129182'>/agenda/2026/5/15/een-mystieke-avond-met-marije-hage-129182</a> || <p>Op uitnodiging van de werkgroep ZIN in ZUID komt Marije Hage naar De Sionskerk in Oudeschoot voor een avond vol mystiek. Marije Hage (1982) is predikant en beeldend kunstenaar. Ze werkte mee aan podcasts, tv-programma’s en schrijft columns, onder andere in Volzin magazine.</p>
<p>Door de tijd heen zijn er mensen geraakt door geloofservaringen. Ervaringen van intense en tedere vreugde. Overgave. Licht en rust. Dit blijken vaak blijvende, dragende markeringen in levens. Maar ook: belevingen waar in eerste instantie moeilijk woorden voor te vinden zijn. Zulke ervaringen zou je mystiek kunnen noemen. Het zijn momenten waarin Iets of Iemand je overrompelt en je hele wezen in een ander licht zet. Marije Hage vertelt, aan de hand van een persoonlijke ervaring, over deze weg van de mystiek. We zullen daarbij ook kennismaken met enkele bekende mystici, zoals Teresa van Avila en Johannes van het Kruis. Deze avond is voor een breed publiek. Je hoeft niet van tevoren kennis te hebben van mystiek.&nbsp;</p>
<p>Marije Hage brengt deze mystieke avond op vrijdag 15 mei 2026 naar De Sionskerk aan de Marktweg 55 in Oudeschoot. De avond begint om 20.00 uur en de toegang bedraagt €5,00 per persoon.</p>
LAST-MODIFIED:20260425T204933Z
LOCATION: Sionskerk | Marktweg 55 Oudeschoot
SEQUENCE:0
STATUS:CONFIRMED
SUMMARY:Een mystieke avond met Marije Hage
TRANSP:OPAQUE
END:VEVENT
END:VCALENDAR
