BEGIN:VCALENDAR
PRODID:-//PUBBLE//agenda//NL
VERSION:2.0
METHOD:PUBLISH
BEGIN:VEVENT
DTSTART:20260515T000000Z
DTEND:20260525T000000Z
DTSTAMP:20260422T110030Z
UID:84e98884-7032-4dc7-8bff-d1835a9872fe
CREATED:20260422T110030Z
NAME:Campina Open Boerderijdagen grootfryslan.nl
X-WR-CALNAME:Campina Open Boerderijdagen
X-ALT-DESC;FMTTYPE=text/html:<a href='/agenda/2026/5/15/campina-open-boerderijdagen-129906'>/agenda/2026/5/15/campina-open-boerderijdagen-129906</a> || <p><strong>Jong en oud kan het boerenleven van dichtbij ervaren. De melkveehouders van Campina laten zien waar zuivel vandaan komt en hoe zij bijdragen aan een ‘<a href="https://www.campina.nl/beteremorgen" target="_blank" rel="noreferrer noopener">betere morgen</a>‘.&nbsp;Iedereen is van harte welkom op de boerderij tussen 10:00-16:00 uur en de&nbsp;toegang is gratis.&nbsp;</strong></p>
<p>Op <strong>vrijdag 15 mei</strong>&nbsp;(dag na Hemelvaartsdag) en&nbsp;<strong>maandag 25 mei&nbsp;</strong>(Tweede Pinksterdag) stellen boerderijen verspreid over heel Nederland, voor de 19e keer, hun erf open voor publiek. Jong en oud kan het boerenleven van dichtbij ervaren.&nbsp;</p>
<p>Op de Open Boerderijdagen is er&nbsp;van alles te doen en te leren.&nbsp;Bij aankomst op de boerderij krijgen kinderen een&nbsp;<strong>Campina</strong>&nbsp;<strong>Doeboek</strong>&nbsp;mee vol met leuke weetjes en spelletjes en uitleg over de Open Boerderijdagen en&nbsp;de&nbsp;activiteiten, zoals;&nbsp;</p>
<ul>
<li>Een zuivelmemory</li>
<li>Een&nbsp;puzzel maken met zonnepanelen</li>
<li>Tegen elkaar strijden in een ‘melkweg race’</li>
<li>Schminken</li>
<li>Deelnemen aan een (blinde) proeverij in de zuivelbar&nbsp;</li>
</ul>
<p>Daarnaast tonen melkveehouders aan de hand van speelse en leerzame activiteiten wat zij doen op het gebied van duurzaamheid.&nbsp;</p>
<p>Aanmelden is niet nodig.</p>
DESCRIPTION:<a href='/agenda/2026/5/15/campina-open-boerderijdagen-129906'>/agenda/2026/5/15/campina-open-boerderijdagen-129906</a> || <p><strong>Jong en oud kan het boerenleven van dichtbij ervaren. De melkveehouders van Campina laten zien waar zuivel vandaan komt en hoe zij bijdragen aan een ‘<a href="https://www.campina.nl/beteremorgen" target="_blank" rel="noreferrer noopener">betere morgen</a>‘.&nbsp;Iedereen is van harte welkom op de boerderij tussen 10:00-16:00 uur en de&nbsp;toegang is gratis.&nbsp;</strong></p>
<p>Op <strong>vrijdag 15 mei</strong>&nbsp;(dag na Hemelvaartsdag) en&nbsp;<strong>maandag 25 mei&nbsp;</strong>(Tweede Pinksterdag) stellen boerderijen verspreid over heel Nederland, voor de 19e keer, hun erf open voor publiek. Jong en oud kan het boerenleven van dichtbij ervaren.&nbsp;</p>
<p>Op de Open Boerderijdagen is er&nbsp;van alles te doen en te leren.&nbsp;Bij aankomst op de boerderij krijgen kinderen een&nbsp;<strong>Campina</strong>&nbsp;<strong>Doeboek</strong>&nbsp;mee vol met leuke weetjes en spelletjes en uitleg over de Open Boerderijdagen en&nbsp;de&nbsp;activiteiten, zoals;&nbsp;</p>
<ul>
<li>Een zuivelmemory</li>
<li>Een&nbsp;puzzel maken met zonnepanelen</li>
<li>Tegen elkaar strijden in een ‘melkweg race’</li>
<li>Schminken</li>
<li>Deelnemen aan een (blinde) proeverij in de zuivelbar&nbsp;</li>
</ul>
<p>Daarnaast tonen melkveehouders aan de hand van speelse en leerzame activiteiten wat zij doen op het gebied van duurzaamheid.&nbsp;</p>
<p>Aanmelden is niet nodig.</p>
LAST-MODIFIED:20260422T110030Z
LOCATION: Onbekend | Gemeenteplein  Heerenveen
SEQUENCE:0
STATUS:CONFIRMED
SUMMARY:Campina Open Boerderijdagen
TRANSP:OPAQUE
END:VEVENT
END:VCALENDAR
