BEGIN:VCALENDAR
PRODID:-//PUBBLE//agenda//NL
VERSION:2.0
METHOD:PUBLISH
BEGIN:VEVENT
DTSTART:20260418T100000Z
DTEND:20260418T180000Z
DTSTAMP:20260422T102600Z
UID:a81049a2-491e-47fe-a86d-49ebefa3055e
CREATED:20260422T102600Z
NAME:Record Store Day - TOON Luisterbar grootfryslan.nl
X-WR-CALNAME:Record Store Day - TOON Luisterbar
X-ALT-DESC;FMTTYPE=text/html:<a href='/agenda/2026/4/18/record-store-day-toon-luisterbar-130124'>/agenda/2026/4/18/record-store-day-toon-luisterbar-130124</a> || <p>Aankomende zaterdag is het Record Store Day en onze eerste! Dat vieren we de hele dag door met:<br /><br />&nbsp;live vinyl DJ-sets<br />&nbsp;Gratis, jawel gratis, specialty brew filter koffie<br />&nbsp;Een gloednieuwe drop in een gloednieuwe platenbak<br /><br />Kom diggen, kom hangen, kom gezellig juh!<br />10:00-18:00&nbsp;</p>
DESCRIPTION:<a href='/agenda/2026/4/18/record-store-day-toon-luisterbar-130124'>/agenda/2026/4/18/record-store-day-toon-luisterbar-130124</a> || <p>Aankomende zaterdag is het Record Store Day en onze eerste! Dat vieren we de hele dag door met:<br /><br />&nbsp;live vinyl DJ-sets<br />&nbsp;Gratis, jawel gratis, specialty brew filter koffie<br />&nbsp;Een gloednieuwe drop in een gloednieuwe platenbak<br /><br />Kom diggen, kom hangen, kom gezellig juh!<br />10:00-18:00&nbsp;</p>
LAST-MODIFIED:20260422T102600Z
LOCATION: TOON Luisterbar | Kleine Kerkstraat 11 Leeuwarden
SEQUENCE:0
STATUS:CONFIRMED
SUMMARY:Record Store Day - TOON Luisterbar
TRANSP:OPAQUE
END:VEVENT
END:VCALENDAR
