BEGIN:VCALENDAR
PRODID:-//PUBBLE//agenda//NL
VERSION:2.0
METHOD:PUBLISH
BEGIN:VEVENT
DTSTART:20260419T130000Z
DTEND:20260419T150900Z
DTSTAMP:20260421T081748Z
UID:eff3b83b-744a-42ae-8163-07c013474b79
CREATED:20260421T081748Z
NAME:David grootfryslan.nl
X-WR-CALNAME:David
X-ALT-DESC;FMTTYPE=text/html:<a href='/agenda/2026/4/19/david-130214'>/agenda/2026/4/19/david-130214</a> || <p>David is een jonge, vrolijke herder met een betoverende stem, die zowel zijn familie als koning Saul in vervoering brengt. Wanneer de reus Goliath zijn volk bedreigt, treedt David moedig naar voren, gewapend met niets meer dan een slinger, enkele stenen en een onwankelbaar geloof. Zo ontvouwt zich het buitengewone lot van een eenvoudige herder die koning wordt en die dankzij zijn trouw en moed een heel koninkrijk weet te redden.</p>
<p>Regisseur</p>
<ul><li>Brent Dawes</li><li>Phil Cunningham</li></ul>
<p>Acteurs</p>
<ul><li>Jonathan Demoor</li><li>Jip Bartels</li><li>Sharon Kips</li><li>Wiebe-Pier Cnossen</li><li>Sander de Heer</li><li>Elbert Smelt</li><li>Marcel Jonker</li><li>Yannick de Waal</li><li>Jan Elbertse</li><li>Aïcha Gill</li><li>Bert Vannieuwenhuyse</li></ul>
<p>Duur: 109 minuten</p>
<p>Genres</p>
<ul><li>Animatie</li><li>Familiefilm</li><li>Musical</li></ul>
DESCRIPTION:<a href='/agenda/2026/4/19/david-130214'>/agenda/2026/4/19/david-130214</a> || <p>David is een jonge, vrolijke herder met een betoverende stem, die zowel zijn familie als koning Saul in vervoering brengt. Wanneer de reus Goliath zijn volk bedreigt, treedt David moedig naar voren, gewapend met niets meer dan een slinger, enkele stenen en een onwankelbaar geloof. Zo ontvouwt zich het buitengewone lot van een eenvoudige herder die koning wordt en die dankzij zijn trouw en moed een heel koninkrijk weet te redden.</p>
<p>Regisseur</p>
<ul><li>Brent Dawes</li><li>Phil Cunningham</li></ul>
<p>Acteurs</p>
<ul><li>Jonathan Demoor</li><li>Jip Bartels</li><li>Sharon Kips</li><li>Wiebe-Pier Cnossen</li><li>Sander de Heer</li><li>Elbert Smelt</li><li>Marcel Jonker</li><li>Yannick de Waal</li><li>Jan Elbertse</li><li>Aïcha Gill</li><li>Bert Vannieuwenhuyse</li></ul>
<p>Duur: 109 minuten</p>
<p>Genres</p>
<ul><li>Animatie</li><li>Familiefilm</li><li>Musical</li></ul>
LAST-MODIFIED:20260421T081748Z
LOCATION: Onbekend | Ruiterskwartier 6a Leeuwarden
SEQUENCE:0
STATUS:CONFIRMED
SUMMARY:David
TRANSP:OPAQUE
END:VEVENT
END:VCALENDAR
