BEGIN:VCALENDAR
PRODID:-//PUBBLE//agenda//NL
VERSION:2.0
METHOD:PUBLISH
BEGIN:VEVENT
DTSTART:20260419T193000Z
DTEND:20260419T220100Z
DTSTAMP:20260421T080241Z
UID:48107d11-7fa6-46b9-87c6-0406ce53853a
CREATED:20260421T080241Z
NAME:La Grazia grootfryslan.nl
X-WR-CALNAME:La Grazia
X-ALT-DESC;FMTTYPE=text/html:<a href='/agenda/2026/4/19/la-grazia-130282'>/agenda/2026/4/19/la-grazia-130282</a> || <p>Regisseur Paolo Sorrentino (La grande bellezza, Youth is terug met zijn nieuwe, adembenemende film La Grazia waarin opnieuw een sterke hoofdrol is weggelegd voor Toni Servillo. Hij speelt een Italiaanse President, die in zijn laatste termijn nog een paar belangrijke beslissingen moet nemen terwijl hij ook het verlies van zijn vrouw een plek moet geven.<br /><br />De ambtstermijn van president Mariano De Santis (Toni Servillo) loopt ten einde. In de galmende zalen van het presidentieel paleis leidt hij een eenzaam bestaan, rouwend om het verlies van zijn vrouw. Voor hij terugkeert naar het gewone leven moet De Santis beslissen over twee grote vraagstukken die nog voor hem liggen: gratieverzoeken van controversiële gevangenen en een euthanasiewet. Zijn morele bezwaren botsen op menselijke verlangens. Wat wordt zijn nalatenschap aan zijn geliefde Italië?<br /><br />Sorrentino weet zijn verhaal in prachtige beelden te vangen en schroomt niet om zich bij tijd en wijle aan de muziek over te geven. Net als zijn hoofdpersoon. La Grazia was de openingsfilm op het Filmfestival van Venetië, waar Toni Servillo de award voor Beste Acteur in ontvangst mocht nemen. ‘Sorrentino has made some beauties in his career. This is one of his best’ (Deadline).</p>
<p>Regisseur</p>
<ul><li>Paolo Sorrentino</li></ul>
<p>Acteurs</p>
<ul><li>Toni Servillo</li><li>Giuseppe Gaiani</li><li>Milvia Marigliano</li><li>Massimo Venturiello</li><li>Orlando Cinque</li></ul>
<p>Duur: 131 minuten</p>
<p>Genres</p>
<ul><li>Drama</li></ul>
DESCRIPTION:<a href='/agenda/2026/4/19/la-grazia-130282'>/agenda/2026/4/19/la-grazia-130282</a> || <p>Regisseur Paolo Sorrentino (La grande bellezza, Youth is terug met zijn nieuwe, adembenemende film La Grazia waarin opnieuw een sterke hoofdrol is weggelegd voor Toni Servillo. Hij speelt een Italiaanse President, die in zijn laatste termijn nog een paar belangrijke beslissingen moet nemen terwijl hij ook het verlies van zijn vrouw een plek moet geven.<br /><br />De ambtstermijn van president Mariano De Santis (Toni Servillo) loopt ten einde. In de galmende zalen van het presidentieel paleis leidt hij een eenzaam bestaan, rouwend om het verlies van zijn vrouw. Voor hij terugkeert naar het gewone leven moet De Santis beslissen over twee grote vraagstukken die nog voor hem liggen: gratieverzoeken van controversiële gevangenen en een euthanasiewet. Zijn morele bezwaren botsen op menselijke verlangens. Wat wordt zijn nalatenschap aan zijn geliefde Italië?<br /><br />Sorrentino weet zijn verhaal in prachtige beelden te vangen en schroomt niet om zich bij tijd en wijle aan de muziek over te geven. Net als zijn hoofdpersoon. La Grazia was de openingsfilm op het Filmfestival van Venetië, waar Toni Servillo de award voor Beste Acteur in ontvangst mocht nemen. ‘Sorrentino has made some beauties in his career. This is one of his best’ (Deadline).</p>
<p>Regisseur</p>
<ul><li>Paolo Sorrentino</li></ul>
<p>Acteurs</p>
<ul><li>Toni Servillo</li><li>Giuseppe Gaiani</li><li>Milvia Marigliano</li><li>Massimo Venturiello</li><li>Orlando Cinque</li></ul>
<p>Duur: 131 minuten</p>
<p>Genres</p>
<ul><li>Drama</li></ul>
LAST-MODIFIED:20260421T080241Z
LOCATION: Onbekend | Ruiterskwartier 6a Leeuwarden
SEQUENCE:0
STATUS:CONFIRMED
SUMMARY:La Grazia
TRANSP:OPAQUE
END:VEVENT
END:VCALENDAR
