BEGIN:VCALENDAR
PRODID:-//PUBBLE//agenda//NL
VERSION:2.0
METHOD:PUBLISH
BEGIN:VEVENT
DTSTART:20260418T154500Z
DTEND:20260418T180700Z
DTSTAMP:20260419T082618Z
UID:e71660c5-2303-4e90-81d2-3a3aba6f5dd2
CREATED:20260419T082618Z
NAME:Ocean’s Thirteen grootfryslan.nl
X-WR-CALNAME:Ocean’s Thirteen
X-ALT-DESC;FMTTYPE=text/html:<a href='/agenda/2026/4/18/oceans-thirteen-130350'>/agenda/2026/4/18/oceans-thirteen-130350</a> || <p>Wanneer de meedogenloze casino eigenaar Willy Bank een van Danny Ocean’s oude vrienden belazert, roept Danny de troepen weer bij elkaar. Deze klus is hun meest ambitieuze en gevaarlijke overval ooit.</p>
<p>Regisseur</p>
<ul><li>Steven Soderbergh</li></ul>
<p>Acteurs</p>
<ul><li>Bernie Mac</li><li>Matt Damon</li><li>George Clooney</li><li>Don Cheadle</li><li>Al Pacino</li><li>Brad Pitt</li><li>Andy Garcia</li></ul>
<p>Duur: 122 minuten</p>
<p>Genres</p>
<ul><li>Thriller</li><li>Misdaad</li></ul>
DESCRIPTION:<a href='/agenda/2026/4/18/oceans-thirteen-130350'>/agenda/2026/4/18/oceans-thirteen-130350</a> || <p>Wanneer de meedogenloze casino eigenaar Willy Bank een van Danny Ocean’s oude vrienden belazert, roept Danny de troepen weer bij elkaar. Deze klus is hun meest ambitieuze en gevaarlijke overval ooit.</p>
<p>Regisseur</p>
<ul><li>Steven Soderbergh</li></ul>
<p>Acteurs</p>
<ul><li>Bernie Mac</li><li>Matt Damon</li><li>George Clooney</li><li>Don Cheadle</li><li>Al Pacino</li><li>Brad Pitt</li><li>Andy Garcia</li></ul>
<p>Duur: 122 minuten</p>
<p>Genres</p>
<ul><li>Thriller</li><li>Misdaad</li></ul>
LAST-MODIFIED:20260419T082618Z
LOCATION: Onbekend | Ruiterskwartier 6a Leeuwarden
SEQUENCE:0
STATUS:CONFIRMED
SUMMARY:Ocean’s Thirteen
TRANSP:OPAQUE
END:VEVENT
END:VCALENDAR
