BEGIN:VCALENDAR
PRODID:-//PUBBLE//agenda//NL
VERSION:2.0
METHOD:PUBLISH
BEGIN:VEVENT
DTSTART:20260418T160000Z
DTEND:20260418T185600Z
DTSTAMP:20260419T082616Z
UID:21a5ae47-8061-4d19-a57b-9d83d98d6f2b
CREATED:20260419T082616Z
NAME:Project Hail Mary grootfryslan.nl
X-WR-CALNAME:Project Hail Mary
X-ALT-DESC;FMTTYPE=text/html:<a href='/agenda/2026/4/18/project-hail-mary-130359'>/agenda/2026/4/18/project-hail-mary-130359</a> || <p>Natuurkundeleraar Ryland Grace (Academy Award® genomineerde Ryan Gosling) wordt lichtjaren van huis wakker op een ruimteschip zonder zich te herinneren wie hij is of hoe hij daar is gekomen. Langzamerhand keert zijn geheugen terug: hij is op een missie om erachter te komen waarom een mysterieuze substantie ervoor zorgt dat de zon uitdooft. Om alles op aarde voor uitsterven te behoeden, moet hij een beroep doen op zijn wetenschappelijke kennis en een aantal onorthodoxe ideeën. Maar een onverwachte vriendschap betekent dat hij er misschien niet helemaal alleen voor staat.<br /><br />Gebaseerd op de New York Times bestseller van Andy Weir. Geregisseerd door Oscar®-winnaars Phil Lord en Christopher Miller.</p>
<p>Regisseur</p>
<ul><li>Phil Lord</li><li>Christopher Miller</li></ul>
<p>Acteurs</p>
<ul><li>Ryan Gosling</li><li>Ken Leung</li><li>Sandra Hüller</li><li>Lionel Boyce</li><li>Milana Vayntrub</li></ul>
<p>Duur: 156 minuten</p>
<p>Genres</p>
<ul><li>Actie</li><li>Science Fiction</li><li>Avontuur</li></ul>
DESCRIPTION:<a href='/agenda/2026/4/18/project-hail-mary-130359'>/agenda/2026/4/18/project-hail-mary-130359</a> || <p>Natuurkundeleraar Ryland Grace (Academy Award® genomineerde Ryan Gosling) wordt lichtjaren van huis wakker op een ruimteschip zonder zich te herinneren wie hij is of hoe hij daar is gekomen. Langzamerhand keert zijn geheugen terug: hij is op een missie om erachter te komen waarom een mysterieuze substantie ervoor zorgt dat de zon uitdooft. Om alles op aarde voor uitsterven te behoeden, moet hij een beroep doen op zijn wetenschappelijke kennis en een aantal onorthodoxe ideeën. Maar een onverwachte vriendschap betekent dat hij er misschien niet helemaal alleen voor staat.<br /><br />Gebaseerd op de New York Times bestseller van Andy Weir. Geregisseerd door Oscar®-winnaars Phil Lord en Christopher Miller.</p>
<p>Regisseur</p>
<ul><li>Phil Lord</li><li>Christopher Miller</li></ul>
<p>Acteurs</p>
<ul><li>Ryan Gosling</li><li>Ken Leung</li><li>Sandra Hüller</li><li>Lionel Boyce</li><li>Milana Vayntrub</li></ul>
<p>Duur: 156 minuten</p>
<p>Genres</p>
<ul><li>Actie</li><li>Science Fiction</li><li>Avontuur</li></ul>
LAST-MODIFIED:20260419T082616Z
LOCATION: Onbekend | Ruiterskwartier 6a Leeuwarden
SEQUENCE:0
STATUS:CONFIRMED
SUMMARY:Project Hail Mary
TRANSP:OPAQUE
END:VEVENT
END:VCALENDAR
