BEGIN:VCALENDAR
PRODID:-//PUBBLE//agenda//NL
VERSION:2.0
METHOD:PUBLISH
BEGIN:VEVENT
DTSTART:20260429T194000Z
DTEND:20260429T220000Z
DTSTAMP:20260419T140918Z
UID:f5ab0054-ce02-4a64-8aef-acf5dfd3b127
CREATED:20260419T140918Z
NAME:The Devil Wears Prada 2 grootfryslan.nl
X-WR-CALNAME:The Devil Wears Prada 2
X-ALT-DESC;FMTTYPE=text/html:<a href='/agenda/2026/4/29/the-devil-wears-prada-2-130398'>/agenda/2026/4/29/the-devil-wears-prada-2-130398</a> || <p>Twintig jaar nadat ze hun iconische rollen speelden als Miranda, Andy, Emily en Nigel keren Meryl Streep, Anne Hathaway, Emily Blunt en Stanley Tucci terug naar de modebewuste straten van New York en de strakke kantoren van Runway Magazine in The Devil Wears Prada 2. In deze langverwachte opvolger van de film uit 2006 worden de personages opnieuw geconfronteerd met de snel veranderende wereld van mode en media. De film wordt geregisseerd door David Frankel, geschreven door Aline Brosh McKenna, geproduceerd door Wendy Finerman en mede geproduceerd door Michael Bederman, Karen Rosenfelt en Aline Brosh McKenna. The Devil Wears Prada 2 is vanaf 30 april te zien in de Nederlandse bioscopen.</p>
<p>Regisseur</p>
<ul><li>David Frankel</li></ul>
<p>Acteurs</p>
<ul><li>Anne Hathaway</li><li>Emily Blunt</li><li>Stanley Tucci</li><li>Meryl Streep</li></ul>
<p>Duur: 120 minuten</p>
<p>Genres</p>
<ul><li>Komedie</li><li>Drama</li></ul>
DESCRIPTION:<a href='/agenda/2026/4/29/the-devil-wears-prada-2-130398'>/agenda/2026/4/29/the-devil-wears-prada-2-130398</a> || <p>Twintig jaar nadat ze hun iconische rollen speelden als Miranda, Andy, Emily en Nigel keren Meryl Streep, Anne Hathaway, Emily Blunt en Stanley Tucci terug naar de modebewuste straten van New York en de strakke kantoren van Runway Magazine in The Devil Wears Prada 2. In deze langverwachte opvolger van de film uit 2006 worden de personages opnieuw geconfronteerd met de snel veranderende wereld van mode en media. De film wordt geregisseerd door David Frankel, geschreven door Aline Brosh McKenna, geproduceerd door Wendy Finerman en mede geproduceerd door Michael Bederman, Karen Rosenfelt en Aline Brosh McKenna. The Devil Wears Prada 2 is vanaf 30 april te zien in de Nederlandse bioscopen.</p>
<p>Regisseur</p>
<ul><li>David Frankel</li></ul>
<p>Acteurs</p>
<ul><li>Anne Hathaway</li><li>Emily Blunt</li><li>Stanley Tucci</li><li>Meryl Streep</li></ul>
<p>Duur: 120 minuten</p>
<p>Genres</p>
<ul><li>Komedie</li><li>Drama</li></ul>
LAST-MODIFIED:20260419T140918Z
LOCATION: Onbekend | Ruiterskwartier 6a Leeuwarden
SEQUENCE:0
STATUS:CONFIRMED
SUMMARY:The Devil Wears Prada 2
TRANSP:OPAQUE
END:VEVENT
END:VCALENDAR
