BEGIN:VCALENDAR
PRODID:-//PUBBLE//agenda//NL
VERSION:2.0
METHOD:PUBLISH
BEGIN:VEVENT
DTSTART:20260522T000000Z
DTEND:20260525T000000Z
DTSTAMP:20260424T163455Z
UID:560fbc75-74b9-4023-b68b-a0cc75660494
CREATED:20260424T163455Z
NAME:Dag van het kasteel grootfryslan.nl
X-WR-CALNAME:Dag van het kasteel
X-ALT-DESC;FMTTYPE=text/html:<a href='/agenda/2026/5/22/dag-van-het-kasteel-130700'>/agenda/2026/5/22/dag-van-het-kasteel-130700</a> || <p><strong>Tijdens het hele <a href="https://dagvanhetkasteel.nl/nieuw-dag-van-het-kasteel-pinksterweekend-editie/" target="_blank">Pinksterweekend</a> (22 t/m 25 mei 2026) is het weer tijd voor Dag van het Kasteel. Deze editie is het thema ‘Liefde’. Dit jaar laten we zien dat kastelen, landgoederen en buitenplaatsen plekken vol hartstocht en emoties zijn, toen en nu. Wie hield van wie? Welke banden bleken sterker dan de tijd?&nbsp;</strong></p>
<p>Naast het gebouw zelf is ook de omgeving rondom kastelen en buitenplaatsen een belangrijk onderdeel van dit historische erfgoed. Buitenruimtes zijn net zo gevarieerd als binnenruimtes: de tuin voor het plezier, het park voor de wandeling, het bos voor de jacht en het landgoed voor de het voedsel. Naast het groen is er buiten natuurlijk nog veel meer te vinden zoals koetshuizen, kassen, stallen, standbeelden, fonteinen, waterputten, terrassen en ander tuinmeubilair.</p>
<p><strong>Deelnemers Friesland:</strong></p>
<ul>
<li>Park Vijversburg</li>
<li>Fogelsangh State</li>
<li>Museum Martena</li>
<li>Dekema State</li>
<li>En meer...</li>
</ul>
DESCRIPTION:<a href='/agenda/2026/5/22/dag-van-het-kasteel-130700'>/agenda/2026/5/22/dag-van-het-kasteel-130700</a> || <p><strong>Tijdens het hele <a href="https://dagvanhetkasteel.nl/nieuw-dag-van-het-kasteel-pinksterweekend-editie/" target="_blank">Pinksterweekend</a> (22 t/m 25 mei 2026) is het weer tijd voor Dag van het Kasteel. Deze editie is het thema ‘Liefde’. Dit jaar laten we zien dat kastelen, landgoederen en buitenplaatsen plekken vol hartstocht en emoties zijn, toen en nu. Wie hield van wie? Welke banden bleken sterker dan de tijd?&nbsp;</strong></p>
<p>Naast het gebouw zelf is ook de omgeving rondom kastelen en buitenplaatsen een belangrijk onderdeel van dit historische erfgoed. Buitenruimtes zijn net zo gevarieerd als binnenruimtes: de tuin voor het plezier, het park voor de wandeling, het bos voor de jacht en het landgoed voor de het voedsel. Naast het groen is er buiten natuurlijk nog veel meer te vinden zoals koetshuizen, kassen, stallen, standbeelden, fonteinen, waterputten, terrassen en ander tuinmeubilair.</p>
<p><strong>Deelnemers Friesland:</strong></p>
<ul>
<li>Park Vijversburg</li>
<li>Fogelsangh State</li>
<li>Museum Martena</li>
<li>Dekema State</li>
<li>En meer...</li>
</ul>
LAST-MODIFIED:20260424T163455Z
LOCATION: Onbekend | Gemeenteplein  Heerenveen
SEQUENCE:0
STATUS:CONFIRMED
SUMMARY:Dag van het kasteel
TRANSP:OPAQUE
END:VEVENT
END:VCALENDAR
