BEGIN:VCALENDAR
PRODID:-//PUBBLE//agenda//NL
VERSION:2.0
METHOD:PUBLISH
BEGIN:VEVENT
DTSTART:20260424T154500Z
DTEND:20260424T174900Z
DTSTAMP:20260423T102330Z
UID:ebe1969f-4c13-4ff1-b3b5-8d9b66180a71
CREATED:20260423T102330Z
NAME:Jumpers (NL) grootfryslan.nl
X-WR-CALNAME:Jumpers (NL)
X-ALT-DESC;FMTTYPE=text/html:<a href='/agenda/2026/4/24/jumpers-nl--130743'>/agenda/2026/4/24/jumpers-nl--130743</a> || <p>Wat als je met dieren kon praten en echt begreep wat ze zeiden?<br /><br />In Disney en Pixar’s gloednieuwe speelfilm Jumpers hebben wetenschappers ontdekt hoe ze het menselijk bewustzijn kunnen “jumpen” naar levensechte, robotachtige dieren. Hierdoor kunnen mensen met dieren communiceren als dieren! Het avontuur volgt Mabel, een dierenliefhebber die de kans grijpt om deze technologie te gebruiken, en daarbij mysteries onthult in de dierenwereld die haar wildste verbeelding te boven gaan. Geregisseerd door Daniel Chong en geproduceerd door Nicole Pardis Grindle. Jumpers met de stemmen van Piper Curda, Bobby Moynihan and Jon Hamm. De film is exclusief te zien in bioscopen vanaf 2026.</p>
<p>Regisseur</p>
<ul><li>Daniel Chong</li></ul>
<p>Acteurs</p>
<ul><li>Jon Hamm</li><li>Bobby Moynihan</li><li>Piper Curda</li></ul>
<p>Duur: 104 minuten</p>
<p>Genres</p>
<ul><li>Animatie</li><li>Kinderfilm</li></ul>
DESCRIPTION:<a href='/agenda/2026/4/24/jumpers-nl--130743'>/agenda/2026/4/24/jumpers-nl--130743</a> || <p>Wat als je met dieren kon praten en echt begreep wat ze zeiden?<br /><br />In Disney en Pixar’s gloednieuwe speelfilm Jumpers hebben wetenschappers ontdekt hoe ze het menselijk bewustzijn kunnen “jumpen” naar levensechte, robotachtige dieren. Hierdoor kunnen mensen met dieren communiceren als dieren! Het avontuur volgt Mabel, een dierenliefhebber die de kans grijpt om deze technologie te gebruiken, en daarbij mysteries onthult in de dierenwereld die haar wildste verbeelding te boven gaan. Geregisseerd door Daniel Chong en geproduceerd door Nicole Pardis Grindle. Jumpers met de stemmen van Piper Curda, Bobby Moynihan and Jon Hamm. De film is exclusief te zien in bioscopen vanaf 2026.</p>
<p>Regisseur</p>
<ul><li>Daniel Chong</li></ul>
<p>Acteurs</p>
<ul><li>Jon Hamm</li><li>Bobby Moynihan</li><li>Piper Curda</li></ul>
<p>Duur: 104 minuten</p>
<p>Genres</p>
<ul><li>Animatie</li><li>Kinderfilm</li></ul>
LAST-MODIFIED:20260423T102330Z
LOCATION: Onbekend | Ruiterskwartier 6a Leeuwarden
SEQUENCE:0
STATUS:CONFIRMED
SUMMARY:Jumpers (NL)
TRANSP:OPAQUE
END:VEVENT
END:VCALENDAR
