BEGIN:VCALENDAR
PRODID:-//PUBBLE//agenda//NL
VERSION:2.0
METHOD:PUBLISH
BEGIN:VEVENT
DTSTART:20260426T204500Z
DTEND:20260426T225100Z
DTSTAMP:20260423T113212Z
UID:3b6298de-41e6-4be1-8c53-17e2f335e312
CREATED:20260423T113212Z
NAME:The Drama grootfryslan.nl
X-WR-CALNAME:The Drama
X-ALT-DESC;FMTTYPE=text/html:<a href='/agenda/2026/4/26/the-drama-130817'>/agenda/2026/4/26/the-drama-130817</a> || <p>Enkele dagen voor hun huwelijk wordt de relatie van Charlie en Emma volledig op zijn kop gezet wanneer Emma een schokkend geheim uit haar verleden onthult. Wat een periode van liefde en verwachting had moeten zijn, verandert in een emotionele crisis waarin Charlie alles wat hij dacht te weten over zijn aanstaande vrouw in twijfel trekt. Terwijl de bruiloft dichterbij komt, wordt hun relatie op de proef gesteld en moeten ze beslissen of hun liefde sterk genoeg is om de waarheid te overleven.<br /><br />The Drama wordt geregisseerd door Kristoffer Borgli (Dream Scenario) en geproduceerd door Ari Aster (Midsommar). De hoofdrollen worden vertolkt door Zendaya (Challengers, Dune) en Robert Pattinson (Good Time, Mickey 17).</p>
<p>Regisseur</p>
<ul><li>Kristoffer Borgli</li></ul>
<p>Acteurs</p>
<ul><li>Zendaya</li><li>Robert Pattinson</li><li>Mamoudou Athie</li><li>Alana Haim</li></ul>
<p>Duur: 106 minuten</p>
<p>Genres</p>
<ul><li>Komedie</li><li>Romantiek</li><li>Drama</li></ul>
DESCRIPTION:<a href='/agenda/2026/4/26/the-drama-130817'>/agenda/2026/4/26/the-drama-130817</a> || <p>Enkele dagen voor hun huwelijk wordt de relatie van Charlie en Emma volledig op zijn kop gezet wanneer Emma een schokkend geheim uit haar verleden onthult. Wat een periode van liefde en verwachting had moeten zijn, verandert in een emotionele crisis waarin Charlie alles wat hij dacht te weten over zijn aanstaande vrouw in twijfel trekt. Terwijl de bruiloft dichterbij komt, wordt hun relatie op de proef gesteld en moeten ze beslissen of hun liefde sterk genoeg is om de waarheid te overleven.<br /><br />The Drama wordt geregisseerd door Kristoffer Borgli (Dream Scenario) en geproduceerd door Ari Aster (Midsommar). De hoofdrollen worden vertolkt door Zendaya (Challengers, Dune) en Robert Pattinson (Good Time, Mickey 17).</p>
<p>Regisseur</p>
<ul><li>Kristoffer Borgli</li></ul>
<p>Acteurs</p>
<ul><li>Zendaya</li><li>Robert Pattinson</li><li>Mamoudou Athie</li><li>Alana Haim</li></ul>
<p>Duur: 106 minuten</p>
<p>Genres</p>
<ul><li>Komedie</li><li>Romantiek</li><li>Drama</li></ul>
LAST-MODIFIED:20260423T113212Z
LOCATION: Onbekend | Ruiterskwartier 6a Leeuwarden
SEQUENCE:0
STATUS:CONFIRMED
SUMMARY:The Drama
TRANSP:OPAQUE
END:VEVENT
END:VCALENDAR
